Package: blacksheepr Version: 1.16.0 Command: /Library/Frameworks/R.framework/Resources/bin/R CMD build --keep-empty-dirs --no-resave-data blacksheepr StartedAt: 2024-04-16 14:28:42 -0400 (Tue, 16 Apr 2024) EndedAt: 2024-04-16 14:31:12 -0400 (Tue, 16 Apr 2024) EllapsedTime: 149.9 seconds RetCode: 0 Status: OK PackageFile: blacksheepr_1.16.0.tar.gz PackageFileSize: 4.227 MiB