Package: blima Version: 1.36.0 Command: /Library/Frameworks/R.framework/Resources/bin/R CMD INSTALL blima StartedAt: 2024-04-16 10:40:56 -0400 (Tue, 16 Apr 2024) EndedAt: 2024-04-16 10:41:29 -0400 (Tue, 16 Apr 2024) EllapsedTime: 32.7 seconds RetCode: 0 Status: OK