Package: bnbc
Version: 1.24.2
Maintainer: Kipper Fletez-Brant
MaintainerEmail: cafletezbrant at gmail.com
git_url: https://git.bioconductor.org/packages/bnbc
git_branch: RELEASE_3_18
git_last_commit: c80ab47
git_last_commit_date: 2024-01-26 13:19:18 -0400 (Fri, 26 Jan 2024)