Package: bnbc Version: 1.24.2 Command: /Library/Frameworks/R.framework/Resources/bin/R CMD check --install=check:bnbc.install-out.txt --library=/Library/Frameworks/R.framework/Resources/library --no-vignettes --timings bnbc_1.24.2.tar.gz StartedAt: 2024-04-17 07:31:23 -0400 (Wed, 17 Apr 2024) EndedAt: 2024-04-17 07:37:52 -0400 (Wed, 17 Apr 2024) EllapsedTime: 389.4 seconds RetCode: 0 Status: OK CheckDir: bnbc.Rcheck Warnings: 0