Package: cageminer Version: 1.8.0 Command: /Library/Frameworks/R.framework/Resources/bin/R CMD build --keep-empty-dirs --no-resave-data cageminer StartedAt: 2024-04-16 14:42:42 -0400 (Tue, 16 Apr 2024) EndedAt: 2024-04-16 14:45:38 -0400 (Tue, 16 Apr 2024) EllapsedTime: 175.5 seconds RetCode: 0 Status: OK PackageFile: cageminer_1.8.0.tar.gz PackageFileSize: 1.417 MiB