Package: cellmigRation Version: 1.10.0 Maintainer: Waldir Leoncio MaintainerEmail: w.l.netto at medisin.uio.no git_url: https://git.bioconductor.org/packages/cellmigRation git_branch: RELEASE_3_18 git_last_commit: b06828e git_last_commit_date: 2023-10-24 11:31:56 -0400 (Tue, 24 Oct 2023)