Package: cellxgenedp Version: 1.6.2 Command: /Library/Frameworks/R.framework/Resources/bin/R CMD check --install=check:cellxgenedp.install-out.txt --library=/Library/Frameworks/R.framework/Resources/library --no-vignettes --timings cellxgenedp_1.6.2.tar.gz StartedAt: 2024-04-17 08:28:18 -0400 (Wed, 17 Apr 2024) EndedAt: 2024-04-17 08:32:27 -0400 (Wed, 17 Apr 2024) EllapsedTime: 248.8 seconds RetCode: 0 Status: OK CheckDir: cellxgenedp.Rcheck Warnings: 0