Package: cfdnakit Version: 1.0.1 Command: /Library/Frameworks/R.framework/Resources/bin/R CMD build --keep-empty-dirs --no-resave-data cfdnakit StartedAt: 2024-04-16 15:06:41 -0400 (Tue, 16 Apr 2024) EndedAt: 2024-04-16 15:07:35 -0400 (Tue, 16 Apr 2024) EllapsedTime: 53.8 seconds RetCode: 0 Status: OK PackageFile: cfdnakit_1.0.1.tar.gz PackageFileSize: 3.021 MiB