Package: chipenrich Version: 2.26.0 Command: /Library/Frameworks/R.framework/Resources/bin/R CMD build --keep-empty-dirs --no-resave-data chipenrich StartedAt: 2024-04-16 15:13:04 -0400 (Tue, 16 Apr 2024) EndedAt: 2024-04-16 15:15:03 -0400 (Tue, 16 Apr 2024) EllapsedTime: 119.4 seconds RetCode: 0 Status: OK PackageFile: chipenrich_2.26.0.tar.gz PackageFileSize: 653.9 KiB