Package: cleanUpdTSeq Version: 1.40.0 Command: rm -rf cleanUpdTSeq.buildbin-libdir && mkdir cleanUpdTSeq.buildbin-libdir && /Users/biocbuild/BBS/utils/build-universal.sh cleanUpdTSeq_1.40.0.tar.gz /Library/Frameworks/R.framework/Resources/bin/R cleanUpdTSeq.buildbin-libdir StartedAt: 2024-04-18 08:41:15 -0400 (Thu, 18 Apr 2024) EndedAt: 2024-04-18 08:43:23 -0400 (Thu, 18 Apr 2024) EllapsedTime: 128.6 seconds RetCode: 0 Status: OK PackageFile: cleanUpdTSeq_1.40.0.tgz PackageFileSize: 5.547 MiB