Package: cleanUpdTSeq Version: 1.40.0 Command: /Library/Frameworks/R.framework/Resources/bin/R CMD INSTALL cleanUpdTSeq StartedAt: 2024-04-16 10:56:00 -0400 (Tue, 16 Apr 2024) EndedAt: 2024-04-16 10:57:35 -0400 (Tue, 16 Apr 2024) EllapsedTime: 95.8 seconds RetCode: 0 Status: OK