Package: clusterExperiment Version: 2.22.0 Maintainer: Elizabeth Purdom MaintainerEmail: epurdom at stat.berkeley.edu git_url: https://git.bioconductor.org/packages/clusterExperiment git_branch: RELEASE_3_18 git_last_commit: e99c78d git_last_commit_date: 2023-10-24 10:51:18 -0400 (Tue, 24 Oct 2023)