Package: clusterExperiment Version: 2.22.0 Command: rm -rf clusterExperiment.buildbin-libdir && mkdir clusterExperiment.buildbin-libdir && /Users/biocbuild/BBS/utils/build-universal.sh clusterExperiment_2.22.0.tar.gz /Library/Frameworks/R.framework/Resources/bin/R clusterExperiment.buildbin-libdir StartedAt: 2024-04-18 08:41:57 -0400 (Thu, 18 Apr 2024) EndedAt: 2024-04-18 08:43:34 -0400 (Thu, 18 Apr 2024) EllapsedTime: 97.4 seconds RetCode: 0 Status: OK PackageFile: clusterExperiment_2.22.0.tgz PackageFileSize: 13.08 MiB