Package: clusterExperiment Version: 2.22.0 Command: /Library/Frameworks/R.framework/Resources/bin/R CMD check --install=check:clusterExperiment.install-out.txt --library=/Library/Frameworks/R.framework/Resources/library --no-vignettes --timings clusterExperiment_2.22.0.tar.gz StartedAt: 2024-04-17 09:20:10 -0400 (Wed, 17 Apr 2024) EndedAt: 2024-04-17 09:38:17 -0400 (Wed, 17 Apr 2024) EllapsedTime: 1087.0 seconds RetCode: 0 Status: WARNINGS CheckDir: clusterExperiment.Rcheck Warnings: 1