Package: clusterExperiment Version: 2.22.0 Command: /Library/Frameworks/R.framework/Resources/bin/R CMD INSTALL clusterExperiment StartedAt: 2024-04-16 12:29:40 -0400 (Tue, 16 Apr 2024) EndedAt: 2024-04-16 12:31:12 -0400 (Tue, 16 Apr 2024) EllapsedTime: 92.0 seconds RetCode: 0 Status: OK