Package: clustifyr Version: 1.14.0 Maintainer: Kent Riemondy MaintainerEmail: kent.riemondy at cuanschutz.edu git_url: https://git.bioconductor.org/packages/clustifyr git_branch: RELEASE_3_18 git_last_commit: de3d2df git_last_commit_date: 2023-10-24 11:19:27 -0400 (Tue, 24 Oct 2023)