Package: clustifyr Version: 1.14.0 Command: /Library/Frameworks/R.framework/Resources/bin/R CMD build --keep-empty-dirs --no-resave-data clustifyr StartedAt: 2024-04-16 15:40:41 -0400 (Tue, 16 Apr 2024) EndedAt: 2024-04-16 15:41:42 -0400 (Tue, 16 Apr 2024) EllapsedTime: 61.4 seconds RetCode: 0 Status: OK PackageFile: clustifyr_1.14.0.tar.gz PackageFileSize: 3.574 MiB