Package: cn.farms Version: 1.50.0 Command: /Library/Frameworks/R.framework/Resources/bin/R CMD build --keep-empty-dirs --no-resave-data cn.farms StartedAt: 2024-04-16 15:41:25 -0400 (Tue, 16 Apr 2024) EndedAt: 2024-04-16 15:42:29 -0400 (Tue, 16 Apr 2024) EllapsedTime: 63.5 seconds RetCode: 0 Status: OK PackageFile: cn.farms_1.50.0.tar.gz PackageFileSize: 2.29 MiB