Package: cogena Version: 1.36.0 Command: /Library/Frameworks/R.framework/Resources/bin/R CMD INSTALL cogena StartedAt: 2024-04-16 11:49:10 -0400 (Tue, 16 Apr 2024) EndedAt: 2024-04-16 11:49:27 -0400 (Tue, 16 Apr 2024) EllapsedTime: 17.4 seconds RetCode: 0 Status: OK