Package: corral Version: 1.12.0 Command: /Library/Frameworks/R.framework/Resources/bin/R CMD INSTALL corral StartedAt: 2024-04-16 10:30:17 -0400 (Tue, 16 Apr 2024) EndedAt: 2024-04-16 10:30:50 -0400 (Tue, 16 Apr 2024) EllapsedTime: 33.3 seconds RetCode: 0 Status: OK