Package: coseq Version: 1.26.0 Command: /Library/Frameworks/R.framework/Resources/bin/R CMD build --keep-empty-dirs --no-resave-data coseq StartedAt: 2024-04-16 16:08:52 -0400 (Tue, 16 Apr 2024) EndedAt: 2024-04-16 16:13:29 -0400 (Tue, 16 Apr 2024) EllapsedTime: 276.9 seconds RetCode: 0 Status: OK PackageFile: coseq_1.26.0.tar.gz PackageFileSize: 1.861 MiB