Package: covRNA Version: 1.28.0 Command: rm -rf covRNA.buildbin-libdir && mkdir covRNA.buildbin-libdir && /Users/biocbuild/BBS/utils/build-universal.sh covRNA_1.28.0.tar.gz /Library/Frameworks/R.framework/Resources/bin/R covRNA.buildbin-libdir StartedAt: 2024-04-18 08:49:32 -0400 (Thu, 18 Apr 2024) EndedAt: 2024-04-18 08:50:01 -0400 (Thu, 18 Apr 2024) EllapsedTime: 29.3 seconds RetCode: 0 Status: OK PackageFile: covRNA_1.28.0.tgz PackageFileSize: 595.4 KiB