Package: covRNA Version: 1.28.0 Command: /Library/Frameworks/R.framework/Resources/bin/R CMD build --keep-empty-dirs --no-resave-data covRNA StartedAt: 2024-04-16 16:16:33 -0400 (Tue, 16 Apr 2024) EndedAt: 2024-04-16 16:17:47 -0400 (Tue, 16 Apr 2024) EllapsedTime: 73.4 seconds RetCode: 0 Status: OK PackageFile: covRNA_1.28.0.tar.gz PackageFileSize: 556.2 KiB