Package: covRNA Version: 1.28.0 Command: /Library/Frameworks/R.framework/Resources/bin/R CMD check --install=check:covRNA.install-out.txt --library=/Library/Frameworks/R.framework/Resources/library --no-vignettes --timings covRNA_1.28.0.tar.gz StartedAt: 2024-04-17 10:18:14 -0400 (Wed, 17 Apr 2024) EndedAt: 2024-04-17 10:23:32 -0400 (Wed, 17 Apr 2024) EllapsedTime: 317.7 seconds RetCode: 0 Status: OK CheckDir: covRNA.Rcheck Warnings: 0