Package: crisprseekplus Version: 1.28.0 Maintainer: Alper Kucukural MaintainerEmail: alper.kucukural at umassmed.edu git_url: https://git.bioconductor.org/packages/crisprseekplus git_branch: RELEASE_3_18 git_last_commit: 8338d72 git_last_commit_date: 2023-10-24 10:53:40 -0400 (Tue, 24 Oct 2023)