Package: decoupleR Version: 2.8.2 Command: /Library/Frameworks/R.framework/Resources/bin/R CMD check --install=check:decoupleR.install-out.txt --library=/Library/Frameworks/R.framework/Resources/library --no-vignettes --timings decoupleR_2.8.2.tar.gz StartedAt: 2024-04-17 11:14:22 -0400 (Wed, 17 Apr 2024) EndedAt: 2024-04-17 11:42:42 -0400 (Wed, 17 Apr 2024) EllapsedTime: 1700.0 seconds RetCode: 1 Status: ERROR CheckDir: decoupleR.Rcheck Warnings: NA