Package: diffHic Version: 1.34.0 Command: /Library/Frameworks/R.framework/Resources/bin/R CMD build --keep-empty-dirs --no-resave-data diffHic StartedAt: 2024-04-16 17:09:41 -0400 (Tue, 16 Apr 2024) EndedAt: 2024-04-16 17:11:40 -0400 (Tue, 16 Apr 2024) EllapsedTime: 119.0 seconds RetCode: 0 Status: OK PackageFile: diffHic_1.34.0.tar.gz PackageFileSize: 1.517 MiB