Package: drugTargetInteractions Version: 1.10.1 Maintainer: Thomas Girke MaintainerEmail: thomas.girke at ucr.edu git_url: https://git.bioconductor.org/packages/drugTargetInteractions git_branch: RELEASE_3_18 git_last_commit: 3727ee5 git_last_commit_date: 2023-10-31 10:45:08 -0400 (Tue, 31 Oct 2023)