Package: drugTargetInteractions Version: 1.10.1 Command: /Library/Frameworks/R.framework/Resources/bin/R CMD build --keep-empty-dirs --no-resave-data drugTargetInteractions StartedAt: 2024-04-16 17:24:02 -0400 (Tue, 16 Apr 2024) EndedAt: 2024-04-16 17:26:27 -0400 (Tue, 16 Apr 2024) EllapsedTime: 144.7 seconds RetCode: 0 Status: OK PackageFile: drugTargetInteractions_1.10.1.tar.gz PackageFileSize: 958.6 KiB