Package: drugTargetInteractions Version: 1.10.1 Command: /Library/Frameworks/R.framework/Resources/bin/R CMD INSTALL drugTargetInteractions StartedAt: 2024-04-16 11:15:38 -0400 (Tue, 16 Apr 2024) EndedAt: 2024-04-16 11:16:29 -0400 (Tue, 16 Apr 2024) EllapsedTime: 51.0 seconds RetCode: 0 Status: OK