Package: easier Version: 1.8.0 Command: /Library/Frameworks/R.framework/Resources/bin/R CMD check --install=check:easier.install-out.txt --library=/Library/Frameworks/R.framework/Resources/library --no-vignettes --timings easier_1.8.0.tar.gz StartedAt: 2024-04-17 12:31:36 -0400 (Wed, 17 Apr 2024) EndedAt: 2024-04-17 12:42:14 -0400 (Wed, 17 Apr 2024) EllapsedTime: 637.6 seconds RetCode: 0 Status: OK CheckDir: easier.Rcheck Warnings: 0