Package: eiR Version: 1.42.0 Command: /Library/Frameworks/R.framework/Resources/bin/R CMD build --keep-empty-dirs --no-resave-data eiR StartedAt: 2024-04-16 17:34:52 -0400 (Tue, 16 Apr 2024) EndedAt: 2024-04-16 17:35:16 -0400 (Tue, 16 Apr 2024) EllapsedTime: 24.1 seconds RetCode: 0 Status: OK PackageFile: eiR_1.42.0.tar.gz PackageFileSize: 452.3 KiB