Package: enrichplot Version: 1.22.0 Command: /Library/Frameworks/R.framework/Resources/bin/R CMD check --install=check:enrichplot.install-out.txt --library=/Library/Frameworks/R.framework/Resources/library --no-vignettes --timings enrichplot_1.22.0.tar.gz StartedAt: 2024-04-17 12:52:22 -0400 (Wed, 17 Apr 2024) EndedAt: 2024-04-17 12:55:50 -0400 (Wed, 17 Apr 2024) EllapsedTime: 207.9 seconds RetCode: 0 Status: OK CheckDir: enrichplot.Rcheck Warnings: 0