Package: epivizr Version: 2.32.0 Command: rm -rf epivizr.buildbin-libdir && mkdir epivizr.buildbin-libdir && /Users/biocbuild/BBS/utils/build-universal.sh epivizr_2.32.0.tar.gz /Library/Frameworks/R.framework/Resources/bin/R epivizr.buildbin-libdir StartedAt: 2024-04-18 09:11:58 -0400 (Thu, 18 Apr 2024) EndedAt: 2024-04-18 09:13:08 -0400 (Thu, 18 Apr 2024) EllapsedTime: 70.3 seconds RetCode: 0 Status: OK PackageFile: epivizr_2.32.0.tgz PackageFileSize: 2.024 MiB