Package: epivizrServer
Version: 1.30.0
Command: rm -rf epivizrServer.buildbin-libdir && mkdir epivizrServer.buildbin-libdir && /Users/biocbuild/BBS/utils/build-universal.sh epivizrServer_1.30.0.tar.gz /Library/Frameworks/R.framework/Resources/bin/R epivizrServer.buildbin-libdir
StartedAt: 2024-04-18 09:12:42 -0400 (Thu, 18 Apr 2024)
EndedAt: 2024-04-18 09:12:50 -0400 (Thu, 18 Apr 2024)
EllapsedTime: 7.8 seconds
RetCode: 0
Status: OK
PackageFile: epivizrServer_1.30.0.tgz
PackageFileSize: 454.5 <A href="http://en.wikipedia.org/wiki/KiB" target="_blank">KiB</A>