Package: erccdashboard
Version: 1.36.0
Command: /Library/Frameworks/R.framework/Resources/bin/R CMD check --install=check:erccdashboard.install-out.txt --library=/Library/Frameworks/R.framework/Resources/library --no-vignettes --timings erccdashboard_1.36.0.tar.gz
StartedAt: 2024-04-17 13:13:17 -0400 (Wed, 17 Apr 2024)
EndedAt: 2024-04-17 13:14:21 -0400 (Wed, 17 Apr 2024)
EllapsedTime: 64.3 seconds
RetCode: 0
Status: OK
CheckDir: erccdashboard.Rcheck
Warnings: 0