Package: escape Version: 1.12.0 Maintainer: Nick Borcherding MaintainerEmail: ncborch at gmail.com git_url: https://git.bioconductor.org/packages/escape git_branch: RELEASE_3_18 git_last_commit: 51adca6 git_last_commit_date: 2023-10-24 11:23:58 -0400 (Tue, 24 Oct 2023)