Package: exomePeak2 Version: 1.14.3 Command: /Library/Frameworks/R.framework/Resources/bin/R CMD build --keep-empty-dirs --no-resave-data exomePeak2 StartedAt: 2024-04-16 17:59:08 -0400 (Tue, 16 Apr 2024) EndedAt: 2024-04-16 18:00:56 -0400 (Tue, 16 Apr 2024) EllapsedTime: 108.4 seconds RetCode: 0 Status: OK PackageFile: exomePeak2_1.14.3.tar.gz PackageFileSize: 2.275 MiB