Package: exomePeak2 Version: 1.14.3 Command: /Library/Frameworks/R.framework/Resources/bin/R CMD check --install=check:exomePeak2.install-out.txt --library=/Library/Frameworks/R.framework/Resources/library --no-vignettes --timings exomePeak2_1.14.3.tar.gz StartedAt: 2024-04-17 13:25:52 -0400 (Wed, 17 Apr 2024) EndedAt: 2024-04-17 13:31:50 -0400 (Wed, 17 Apr 2024) EllapsedTime: 358.6 seconds RetCode: 0 Status: OK CheckDir: exomePeak2.Rcheck Warnings: 0