Package: exomePeak2 Version: 1.14.3 Command: /Library/Frameworks/R.framework/Resources/bin/R CMD INSTALL exomePeak2 StartedAt: 2024-04-16 11:17:19 -0400 (Tue, 16 Apr 2024) EndedAt: 2024-04-16 11:18:12 -0400 (Tue, 16 Apr 2024) EllapsedTime: 52.6 seconds RetCode: 0 Status: OK