Package: fCI Version: 1.32.0 Command: rm -rf fCI.buildbin-libdir && mkdir fCI.buildbin-libdir && /Users/biocbuild/BBS/utils/build-universal.sh fCI_1.32.0.tar.gz /Library/Frameworks/R.framework/Resources/bin/R fCI.buildbin-libdir StartedAt: 2024-04-18 09:16:50 -0400 (Thu, 18 Apr 2024) EndedAt: 2024-04-18 09:17:00 -0400 (Thu, 18 Apr 2024) EllapsedTime: 9.2 seconds RetCode: 0 Status: OK PackageFile: fCI_1.32.0.tgz PackageFileSize: 1.547 MiB