Package: fCI Version: 1.32.0 Command: /Library/Frameworks/R.framework/Resources/bin/R CMD build --keep-empty-dirs --no-resave-data fCI StartedAt: 2024-04-16 18:04:31 -0400 (Tue, 16 Apr 2024) EndedAt: 2024-04-16 18:05:12 -0400 (Tue, 16 Apr 2024) EllapsedTime: 41.0 seconds RetCode: 0 Status: OK PackageFile: fCI_1.32.0.tar.gz PackageFileSize: 1.318 MiB