Package: fCI Version: 1.32.0 Command: /Library/Frameworks/R.framework/Resources/bin/R CMD INSTALL fCI StartedAt: 2024-04-16 11:25:27 -0400 (Tue, 16 Apr 2024) EndedAt: 2024-04-16 11:25:33 -0400 (Tue, 16 Apr 2024) EllapsedTime: 6.4 seconds RetCode: 0 Status: OK