Package: fabia Version: 2.48.0 Command: /Library/Frameworks/R.framework/Resources/bin/R CMD INSTALL fabia StartedAt: 2024-04-16 10:03:26 -0400 (Tue, 16 Apr 2024) EndedAt: 2024-04-16 10:03:37 -0400 (Tue, 16 Apr 2024) EllapsedTime: 11.6 seconds RetCode: 0 Status: OK