Package: farms Version: 1.54.0 Command: /Library/Frameworks/R.framework/Resources/bin/R CMD check --install=check:farms.install-out.txt --library=/Library/Frameworks/R.framework/Resources/library --no-vignettes --timings farms_1.54.0.tar.gz StartedAt: 2024-04-17 13:32:21 -0400 (Wed, 17 Apr 2024) EndedAt: 2024-04-17 13:33:03 -0400 (Wed, 17 Apr 2024) EllapsedTime: 42.0 seconds RetCode: 0 Status: OK CheckDir: farms.Rcheck Warnings: 0