Package: fcScan Version: 1.16.0 Command: /Library/Frameworks/R.framework/Resources/bin/R CMD INSTALL fcScan StartedAt: 2024-04-16 11:13:27 -0400 (Tue, 16 Apr 2024) EndedAt: 2024-04-16 11:14:20 -0400 (Tue, 16 Apr 2024) EllapsedTime: 53.1 seconds RetCode: 0 Status: OK