Package: fgga Version: 1.10.2 Command: /Library/Frameworks/R.framework/Resources/bin/R CMD check --install=check:fgga.install-out.txt --library=/Library/Frameworks/R.framework/Resources/library --no-vignettes --timings fgga_1.10.2.tar.gz StartedAt: 2024-04-17 13:43:17 -0400 (Wed, 17 Apr 2024) EndedAt: 2024-04-17 13:45:26 -0400 (Wed, 17 Apr 2024) EllapsedTime: 128.9 seconds RetCode: 0 Status: OK CheckDir: fgga.Rcheck Warnings: 0