Package: fgsea Version: 1.28.0 Command: rm -rf fgsea.buildbin-libdir && mkdir fgsea.buildbin-libdir && /Users/biocbuild/BBS/utils/build-universal.sh fgsea_1.28.0.tar.gz /Library/Frameworks/R.framework/Resources/bin/R fgsea.buildbin-libdir StartedAt: 2024-04-18 09:17:41 -0400 (Thu, 18 Apr 2024) EndedAt: 2024-04-18 09:18:33 -0400 (Thu, 18 Apr 2024) EllapsedTime: 52.6 seconds RetCode: 0 Status: OK PackageFile: fgsea_1.28.0.tgz PackageFileSize: 5.518 MiB