Package: flowAI Version: 1.32.0 Command: rm -rf flowAI.buildbin-libdir && mkdir flowAI.buildbin-libdir && /Users/biocbuild/BBS/utils/build-universal.sh flowAI_1.32.0.tar.gz /Library/Frameworks/R.framework/Resources/bin/R flowAI.buildbin-libdir StartedAt: 2024-04-18 09:18:19 -0400 (Thu, 18 Apr 2024) EndedAt: 2024-04-18 09:18:38 -0400 (Thu, 18 Apr 2024) EllapsedTime: 19.2 seconds RetCode: 0 Status: OK PackageFile: flowAI_1.32.0.tgz PackageFileSize: 4.869 MiB