Package: flowAI Version: 1.32.0 Command: /Library/Frameworks/R.framework/Resources/bin/R CMD INSTALL flowAI StartedAt: 2024-04-16 11:25:34 -0400 (Tue, 16 Apr 2024) EndedAt: 2024-04-16 11:25:49 -0400 (Tue, 16 Apr 2024) EllapsedTime: 14.2 seconds RetCode: 0 Status: OK